BEGIN:VCALENDAR
VERSION:2.0
PRODID:-//Sabre//Sabre VObject 4.5.6//EN
CALSCALE:GREGORIAN
BEGIN:VEVENT
UID:sabre-vobject-a7fb7ada-165e-4027-b86d-24d99f44b3a2
DTSTAMP:20260419T131824Z
SUMMARY:Beichtgelegenheit
DESCRIPTION:https://gottesdienstsuche.com/gottesdienste/beichtgelegenheit_i
 d37501
DTSTART:20261226T163000
LOCATION:Verklärung Christi\, Kirchenweg 3\, 85296 Rohrbach
END:VEVENT
END:VCALENDAR
