BEGIN:VCALENDAR
VERSION:2.0
PRODID:-//Sabre//Sabre VObject 4.5.6//EN
CALSCALE:GREGORIAN
BEGIN:VEVENT
UID:sabre-vobject-0868c6b0-88c7-47db-ae2b-64ac5e8e8eeb
DTSTAMP:20260421T095226Z
SUMMARY:Heilige Messe - anschließend Gräbersegnung
DESCRIPTION:https://gottesdienstsuche.com/gottesdienste/heilige-messe-ansch
 liessend-graebersegnung_id37498
DTSTART:20261101T100000
LOCATION:Verklärung Christi\, Kirchenweg 3\, 85296 Rohrbach
END:VEVENT
END:VCALENDAR
