BEGIN:VCALENDAR
VERSION:2.0
PRODID:-//Sabre//Sabre VObject 4.5.6//EN
CALSCALE:GREGORIAN
BEGIN:VEVENT
UID:sabre-vobject-be0e4349-a639-429a-974c-37481ec00b61
DTSTAMP:20260419T125049Z
SUMMARY:Heilige Messe
DESCRIPTION:https://gottesdienstsuche.com/gottesdienste/heilige-messe_id374
 50
DTSTART:20260726T100000
LOCATION:Verklärung Christi\, Kirchenweg 3\, 85296 Rohrbach
END:VEVENT
END:VCALENDAR
