BEGIN:VCALENDAR
VERSION:2.0
PRODID:-//Sabre//Sabre VObject 4.5.6//EN
CALSCALE:GREGORIAN
BEGIN:VEVENT
UID:sabre-vobject-3e5daff6-5619-4d87-8798-244af41bcb6d
DTSTAMP:20260419T125019Z
SUMMARY:Heilige Messe mit eucharistischem Segen
DESCRIPTION:https://gottesdienstsuche.com/gottesdienste/heilige-messe-mit-e
 ucharistischem-segen_id37447
DTSTART:20260723T190000
LOCATION:Verklärung Christi\, Kirchenweg 3\, 85296 Rohrbach
END:VEVENT
END:VCALENDAR
