BEGIN:VCALENDAR
VERSION:2.0
PRODID:-//Sabre//Sabre VObject 4.5.6//EN
CALSCALE:GREGORIAN
BEGIN:VEVENT
UID:sabre-vobject-acca6e63-2c4a-47a7-9df0-22303fa0b55c
DTSTAMP:20260419T143314Z
SUMMARY:Rosenkranz
DESCRIPTION:https://gottesdienstsuche.com/gottesdienste/rosenkranz_id37321
DTSTART:20260823T183000
LOCATION:St. Martin\, Kirchberg 9\, 85296 Fahlenbach
END:VEVENT
END:VCALENDAR
