BEGIN:VCALENDAR
VERSION:2.0
PRODID:-//Sabre//Sabre VObject 4.5.6//EN
CALSCALE:GREGORIAN
BEGIN:VEVENT
UID:sabre-vobject-fcc26221-4742-4056-aff2-37474c4dbcd9
DTSTAMP:20260419T143140Z
SUMMARY:Heilige Messe
DESCRIPTION:https://gottesdienstsuche.com/gottesdienste/heilige-messe_id373
 02
DTSTART:20260726T083000
LOCATION:St. Martin\, Kirchberg 9\, 85296 Fahlenbach
END:VEVENT
END:VCALENDAR
