BEGIN:VCALENDAR
VERSION:2.0
PRODID:-//Sabre//Sabre VObject 4.5.6//EN
CALSCALE:GREGORIAN
BEGIN:VEVENT
UID:sabre-vobject-03d503df-b9f8-429b-b0ee-52dd4abdcd4f
DTSTAMP:20260419T141803Z
SUMMARY:Rosenkranz
DESCRIPTION:https://gottesdienstsuche.com/gottesdienste/rosenkranz_id37301
DTSTART:20260719T183000
LOCATION:St. Martin\, Kirchberg 9\, 85296 Fahlenbach
END:VEVENT
END:VCALENDAR
