BEGIN:VCALENDAR
VERSION:2.0
PRODID:-//Sabre//Sabre VObject 4.5.6//EN
CALSCALE:GREGORIAN
BEGIN:VEVENT
UID:sabre-vobject-58d8d800-a969-4f72-b212-520999a9c8d3
DTSTAMP:20260419T175442Z
SUMMARY:Anbetung mit Stundengebet
DESCRIPTION:https://gottesdienstsuche.com/gottesdienste/anbetung-mit-stunde
 ngebet_id37297
DTSTART:20260708T180000
LOCATION:St. Martin\, Kirchberg 9\, 85296 Fahlenbach
END:VEVENT
END:VCALENDAR
