BEGIN:VCALENDAR
VERSION:2.0
PRODID:-//Sabre//Sabre VObject 4.5.6//EN
CALSCALE:GREGORIAN
BEGIN:VEVENT
UID:sabre-vobject-786579c3-ce72-4c0d-a865-85960eb17c6c
DTSTAMP:20260419T213031Z
SUMMARY:Rosenkranz
DESCRIPTION:https://gottesdienstsuche.com/gottesdienste/rosenkranz_id37296
DTSTART:20260705T183000
LOCATION:St. Martin\, Kirchberg 9\, 85296 Fahlenbach
END:VEVENT
END:VCALENDAR
