BEGIN:VCALENDAR
VERSION:2.0
PRODID:-//Sabre//Sabre VObject 4.5.6//EN
CALSCALE:GREGORIAN
BEGIN:VEVENT
UID:sabre-vobject-43eef911-bf34-4f47-b5da-a243145304ba
DTSTAMP:20260420T022321Z
SUMMARY:Vorabendmesse
DESCRIPTION:https://gottesdienstsuche.com/gottesdienste/vorabendmesse_id372
 95
DTSTART:20260704T190000
LOCATION:St. Martin\, Kirchberg 9\, 85296 Fahlenbach
END:VEVENT
END:VCALENDAR
