BEGIN:VCALENDAR
VERSION:2.0
PRODID:-//Sabre//Sabre VObject 4.5.6//EN
CALSCALE:GREGORIAN
BEGIN:VEVENT
UID:sabre-vobject-0db93ec6-3db3-40c8-be42-24909d6e76d5
DTSTAMP:20260419T194004Z
SUMMARY:Vorabendmesse
DESCRIPTION:https://gottesdienstsuche.com/gottesdienste/vorabendmesse_id371
 99
DTSTART:20260822T190000
LOCATION:St. Stephan\, Rohr 29\, 85296 Rohrbach
END:VEVENT
END:VCALENDAR
