BEGIN:VCALENDAR
VERSION:2.0
PRODID:-//Sabre//Sabre VObject 4.5.6//EN
CALSCALE:GREGORIAN
BEGIN:VEVENT
UID:sabre-vobject-dfc11557-27f9-4aec-8397-02b79dea838c
DTSTAMP:20260421T095247Z
SUMMARY:Heilige Messe PATROZINIUM
DESCRIPTION:https://gottesdienstsuche.com/gottesdienste/heilige-messe-patro
 zinium_id37194
DTSTART:20260810T190000
LOCATION:St. Stephan\, Rohr 29\, 85296 Rohrbach
END:VEVENT
END:VCALENDAR
