BEGIN:VCALENDAR
VERSION:2.0
PRODID:-//Sabre//Sabre VObject 4.5.6//EN
CALSCALE:GREGORIAN
BEGIN:VEVENT
UID:sabre-vobject-d81b8a59-6603-4e5a-9d74-fe5b24951819
DTSTAMP:20260419T143137Z
SUMMARY:Vorabendmesse
DESCRIPTION:https://gottesdienstsuche.com/gottesdienste/vorabendmesse_id371
 41
DTSTART:20260725T190000
LOCATION:St. Stephan\, Rohr 29\, 85296 Rohrbach
END:VEVENT
END:VCALENDAR
