BEGIN:VCALENDAR
VERSION:2.0
PRODID:-//Sabre//Sabre VObject 4.5.6//EN
CALSCALE:GREGORIAN
BEGIN:VEVENT
UID:sabre-vobject-96b2f518-fa99-4dbf-bfa6-593d52da7ecd
DTSTAMP:20260419T143130Z
SUMMARY:Heilige Messe
DESCRIPTION:https://gottesdienstsuche.com/gottesdienste/heilige-messe_id371
 40
DTSTART:20260721T190000
LOCATION:St. Stephan\, Rohr 29\, 85296 Rohrbach
END:VEVENT
END:VCALENDAR
