BEGIN:VCALENDAR
VERSION:2.0
PRODID:-//Sabre//Sabre VObject 4.5.6//EN
CALSCALE:GREGORIAN
BEGIN:VEVENT
UID:sabre-vobject-40473496-b164-495b-99b3-808581a79ae8
DTSTAMP:20260419T143218Z
SUMMARY:Vorabendmesse
DESCRIPTION:https://gottesdienstsuche.com/gottesdienste/vorabendmesse_id371
 37
DTSTART:20260711T190000
LOCATION:St. Stephan\, Rohr 29\, 85296 Rohrbach
END:VEVENT
END:VCALENDAR
