BEGIN:VCALENDAR
VERSION:2.0
PRODID:-//Sabre//Sabre VObject 4.5.6//EN
CALSCALE:GREGORIAN
BEGIN:VEVENT
UID:sabre-vobject-5d65b7b7-a902-4cb1-a8de-fb80aeb03cc0
DTSTAMP:20260419T151423Z
SUMMARY:Seniorenausflug Abfahrt um 12.00 Uhr in Mitterscheyern\, Gaststätt
 e Hoiss\n
DESCRIPTION:https://gottesdienstsuche.com/seniorenausflug-abfahrt-um-12-00-
 uhr-in-mitterscheyern-gaststaette-hoiss_id32873
DTSTART:20250910T120000
LOCATION:Pfarrkirche Scheyern-Heilig Kreuz (Klosterkirche)\, Schyrenplatz \
 , 85298 Scheyern
END:VEVENT
END:VCALENDAR
