BEGIN:VCALENDAR
VERSION:2.0
PRODID:-//Sabre//Sabre VObject 4.5.6//EN
CALSCALE:GREGORIAN
BEGIN:VEVENT
UID:sabre-vobject-f0d4da08-7f98-4244-9b0a-8a729a4b12b6
DTSTAMP:20260419T165111Z
SUMMARY:Konventgottesdienst
DESCRIPTION:https://gottesdienstsuche.com/konventgottesdienst_id32872
DTSTART:20250910T070000
LOCATION:Pfarrkirche Scheyern-Heilig Kreuz (Klosterkirche)\, Schyrenplatz \
 , 85298 Scheyern
END:VEVENT
END:VCALENDAR
