BEGIN:VCALENDAR
VERSION:2.0
PRODID:-//Sabre//Sabre VObject 4.5.6//EN
CALSCALE:GREGORIAN
BEGIN:VEVENT
UID:sabre-vobject-862a7210-040c-485f-814f-b114069e0f9a
DTSTAMP:20260419T215809Z
SUMMARY:Rosenkranz
DESCRIPTION:https://gottesdienstsuche.com/rosenkranz_id32870
DTSTART:20250909T175500
LOCATION:Pfarrkirche Niederscheyern-Maria Verkündigung\, Scheyererweg 3\, 
 85276 Niederscheyern
END:VEVENT
END:VCALENDAR
