BEGIN:VCALENDAR
VERSION:2.0
PRODID:-//Sabre//Sabre VObject 4.5.6//EN
CALSCALE:GREGORIAN
BEGIN:VEVENT
UID:sabre-vobject-171533d8-c9f1-4add-9baa-03adae89fd5e
DTSTAMP:20260420T044725Z
SUMMARY:Vesper mit eucharistischem Segen\n
DESCRIPTION:https://gottesdienstsuche.com/vesper-mit-eucharistischem-segen_
 id32866
DTSTART:20250907T163000
LOCATION:Pfarrkirche Scheyern-Heilig Kreuz (Klosterkirche)\, Schyrenplatz \
 , 85298 Scheyern
END:VEVENT
END:VCALENDAR
