BEGIN:VCALENDAR
VERSION:2.0
PRODID:-//Sabre//Sabre VObject 4.5.6//EN
CALSCALE:GREGORIAN
BEGIN:VEVENT
UID:sabre-vobject-cc866076-9f01-4516-9e48-132feec23c05
DTSTAMP:20260420T063056Z
SUMMARY:Fatima-Rosenkranz
DESCRIPTION:https://gottesdienstsuche.com/fatima-rosenkranz_id32865
DTSTART:20250907T150000
LOCATION:Pfarrkirche Niederscheyern-Maria Verkündigung\, Scheyererweg 3\, 
 85276 Niederscheyern
END:VEVENT
END:VCALENDAR
