BEGIN:VCALENDAR
VERSION:2.0
PRODID:-//Sabre//Sabre VObject 4.5.6//EN
CALSCALE:GREGORIAN
BEGIN:VEVENT
UID:sabre-vobject-e04c5d13-43da-4a20-ae59-2b6b89b4114a
DTSTAMP:20260420T093507Z
SUMMARY:Pfarrgottesdienst\, Musik "Bel Canto"
DESCRIPTION:https://gottesdienstsuche.com/pfarrgottesdienst-musik-bel-canto
 _id32864
DTSTART:20250907T100000
LOCATION:Pfarrkirche Gerolsbach-St. Andreas\, St.-Andreas-Str. 7\, 85302 Ge
 rolsbach
END:VEVENT
END:VCALENDAR
