BEGIN:VCALENDAR
VERSION:2.0
PRODID:-//Sabre//Sabre VObject 4.5.6//EN
CALSCALE:GREGORIAN
BEGIN:VEVENT
UID:sabre-vobject-a181e427-6346-4a64-914d-20d4cbcd86b1
DTSTAMP:20260420T155439Z
SUMMARY:Pfarrgottesdienst
DESCRIPTION:https://gottesdienstsuche.com/pfarrgottesdienst_id32862
DTSTART:20250907T083000
LOCATION:Pfarrkirche Scheyern-Heilig Kreuz (Klosterkirche)\, Schyrenplatz \
 , 85298 Scheyern
END:VEVENT
END:VCALENDAR
