BEGIN:VCALENDAR
VERSION:2.0
PRODID:-//Sabre//Sabre VObject 4.5.6//EN
CALSCALE:GREGORIAN
BEGIN:VEVENT
UID:sabre-vobject-fe62344f-3e47-434f-813b-b1183637fcf4
DTSTAMP:20260419T183731Z
SUMMARY:Gottesdienst
DESCRIPTION:https://gottesdienstsuche.com/gottesdienst_id32804
DTSTART:20250909T190000
LOCATION:Filialkirche Johanneck-Mariä Himmelfahrt\, Johannecker Str. 23\, 
 85307 Johanneck
END:VEVENT
END:VCALENDAR
