BEGIN:VCALENDAR
VERSION:2.0
PRODID:-//Sabre//Sabre VObject 4.5.6//EN
CALSCALE:GREGORIAN
BEGIN:VEVENT
UID:sabre-vobject-7952d138-cb4d-474c-8fa6-9530125e2615
DTSTAMP:20260420T125731Z
SUMMARY:Wortgottesfeier
DESCRIPTION:https://gottesdienstsuche.com/wortgottesfeier_id32802
DTSTART:20250907T090000
LOCATION:Pfarrkirche Niederthann-St. Dionysius\, HsNr. 15\, 85301 Niedertha
 nn
END:VEVENT
END:VCALENDAR
