BEGIN:VCALENDAR
VERSION:2.0
PRODID:-//Sabre//Sabre VObject 4.5.6//EN
CALSCALE:GREGORIAN
BEGIN:VEVENT
UID:sabre-vobject-514300a2-f455-415a-bcf0-ee79c5c5c5a5
DTSTAMP:20260421T095250Z
SUMMARY:Pfarrgottesdienst
DESCRIPTION:https://gottesdienstsuche.com/pfarrgottesdienst_id32218
DTSTART:20250831T090000
LOCATION:Pfarrkirche Niederthann-St. Dionysius\, HsNr. 15\, 85301 Niedertha
 nn
END:VEVENT
END:VCALENDAR
