BEGIN:VCALENDAR
VERSION:2.0
PRODID:-//Sabre//Sabre VObject 4.5.6//EN
CALSCALE:GREGORIAN
BEGIN:VEVENT
UID:sabre-vobject-1df74b4f-0941-471c-851a-4726cc2b5e2c
DTSTAMP:20260419T161743Z
SUMMARY:Vorabendgottesdienst
DESCRIPTION:https://gottesdienstsuche.com/vorabendgottesdienst_id32217
DTSTART:20250830T190000
LOCATION:Pfarrkirche Güntersdorf-St. Josef\, St.-Josef-Str. 25\, 85301 Gü
 ntersdorf
END:VEVENT
END:VCALENDAR
