BEGIN:VCALENDAR
VERSION:2.0
PRODID:-//Sabre//Sabre VObject 4.5.6//EN
CALSCALE:GREGORIAN
BEGIN:VEVENT
UID:sabre-vobject-e36f815e-8b69-4450-ba75-40ebbde55062
DTSTAMP:20260419T212747Z
SUMMARY:Rosenkranz
DESCRIPTION:https://gottesdienstsuche.com/rosenkranz_id32216
DTSTART:20250830T163000
LOCATION:Pfarrkirche Paunzhausen-St. Stephanus\, Am Kirchberg 5\, 85307 Pau
 nzhausen
END:VEVENT
END:VCALENDAR
