BEGIN:VCALENDAR
VERSION:2.0
PRODID:-//Sabre//Sabre VObject 4.5.6//EN
CALSCALE:GREGORIAN
BEGIN:VEVENT
UID:sabre-vobject-18a417e9-e5f0-45eb-9cef-8cd38c8f4770
DTSTAMP:20260422T000449Z
SUMMARY:Gottesdienst
DESCRIPTION:https://gottesdienstsuche.com/gottesdienst_id32215
DTSTART:20250826T190000
LOCATION:Filialkirche Holzhausen-St. Ulrich\, \, 85301 Holzhausen
END:VEVENT
END:VCALENDAR
