BEGIN:VCALENDAR
VERSION:2.0
PRODID:-//Sabre//Sabre VObject 4.5.6//EN
CALSCALE:GREGORIAN
BEGIN:VEVENT
UID:sabre-vobject-36392b60-115c-4cb4-8277-cc887319a9b5
DTSTAMP:20260422T085128Z
SUMMARY:Vorabendgottesdienst
DESCRIPTION:https://gottesdienstsuche.com/vorabendgottesdienst_id32214
DTSTART:20250824T190000
LOCATION:Pfarrkirche Dürnzhausen-St. Georg\, Kirchberg 7\, 85301 Dürnzhau
 sen
END:VEVENT
END:VCALENDAR
