BEGIN:VCALENDAR
VERSION:2.0
PRODID:-//Sabre//Sabre VObject 4.5.6//EN
CALSCALE:GREGORIAN
BEGIN:VEVENT
UID:sabre-vobject-cdf12177-3e63-45f5-a216-c1972365958c
DTSTAMP:20260422T135048Z
SUMMARY:Taufe Simon Manegold
DESCRIPTION:https://gottesdienstsuche.com/taufe-simon-manegold_id32213
DTSTART:20250824T113000
LOCATION:Pfarrkirche Sünzhausen St. Koloman\, Pfarrweg 1\, 85301 Sünzhaus
 en
END:VEVENT
END:VCALENDAR
