BEGIN:VCALENDAR
VERSION:2.0
PRODID:-//Sabre//Sabre VObject 4.5.6//EN
CALSCALE:GREGORIAN
BEGIN:VEVENT
UID:sabre-vobject-eee52e78-2806-4a9b-a8d1-64051e1a173a
DTSTAMP:20260422T171046Z
SUMMARY:Pfarrgottesdienst
DESCRIPTION:https://gottesdienstsuche.com/pfarrgottesdienst_id32212
DTSTART:20250824T103000
LOCATION:Pfarrkirche Sünzhausen St. Koloman\, Pfarrweg 1\, 85301 Sünzhaus
 en
END:VEVENT
END:VCALENDAR
