BEGIN:VCALENDAR
VERSION:2.0
PRODID:-//Sabre//Sabre VObject 4.5.6//EN
CALSCALE:GREGORIAN
BEGIN:VEVENT
UID:sabre-vobject-58b9e82c-51e0-463b-8c13-9c26fd5a270d
DTSTAMP:20260422T154949Z
SUMMARY:Wortgottesfeier
DESCRIPTION:https://gottesdienstsuche.com/wortgottesfeier_id32211
DTSTART:20250824T103000
LOCATION:Pfarrkirche Förnbach-Mariä Himmelfahrt\, Förnbachstr. 22\, 8527
 6 Förnbach
END:VEVENT
END:VCALENDAR
