BEGIN:VCALENDAR
VERSION:2.0
PRODID:-//Sabre//Sabre VObject 4.5.6//EN
CALSCALE:GREGORIAN
BEGIN:VEVENT
UID:sabre-vobject-7870b56a-78e6-4197-bd1c-afa3985c977a
DTSTAMP:20260422T224404Z
SUMMARY:Pfarrgottesdienst
DESCRIPTION:https://gottesdienstsuche.com/pfarrgottesdienst_id32210
DTSTART:20250824T090000
LOCATION:Pfarrkirche Paunzhausen-St. Stephanus\, Am Kirchberg 5\, 85307 Pau
 nzhausen
END:VEVENT
END:VCALENDAR
