BEGIN:VCALENDAR
VERSION:2.0
PRODID:-//Sabre//Sabre VObject 4.5.6//EN
CALSCALE:GREGORIAN
BEGIN:VEVENT
UID:sabre-vobject-37468992-7759-4b48-b712-36a7a3fa0a4b
DTSTAMP:20260423T151923Z
SUMMARY:Taufe Martin Hans Grund
DESCRIPTION:https://gottesdienstsuche.com/taufe-martin-hans-grund_id32207
DTSTART:20250823T130000
LOCATION:Privatkapelle Streitdorf\, \, 85276 Förnbach
END:VEVENT
END:VCALENDAR
