BEGIN:VCALENDAR
VERSION:2.0
PRODID:-//Sabre//Sabre VObject 4.5.6//EN
CALSCALE:GREGORIAN
BEGIN:VEVENT
UID:sabre-vobject-74e45b96-ba81-42eb-b3a1-a3ffd8cf1a02
DTSTAMP:20260423T202312Z
SUMMARY:Gottesdienst in Oberberghausen\, musikalisch mitgestaltet von "A Ha
 nd voi Musi". Alle Mitglieder des Pfarrverbandes sind herzlich eingeladen.
DESCRIPTION:https://gottesdienstsuche.com/gottesdienst-in-oberberghausen-mu
 sikalisch-mitgestaltet-von-a-hand-voi-musi-alle-mitglieder-des-pfarrverban
 des-sind-herzlich-eingeladen_id32206
DTSTART:20250822T180000
LOCATION:Pfarrkirche Schweitenkirchen-St. Johann Baptist\, Kirchenweg\, 853
 01 Schweitenkirchen
END:VEVENT
END:VCALENDAR
