BEGIN:VCALENDAR
VERSION:2.0
PRODID:-//Sabre//Sabre VObject 4.5.6//EN
CALSCALE:GREGORIAN
BEGIN:VEVENT
UID:sabre-vobject-e4266ac4-80db-4ad6-987d-33060098549d
DTSTAMP:20260424T163333Z
SUMMARY:Festgottesdienst zum Fest Mariä Aufnahme in den Himmel mit Kräute
 rsegnung
DESCRIPTION:https://gottesdienstsuche.com/festgottesdienst-zum-fest-mariae-
 aufnahme-in-den-himmel-mit-kraeutersegnung_id32204
DTSTART:20250817T103000
LOCATION:Pfarrkirche Sünzhausen St. Koloman\, Pfarrweg 1\, 85301 Sünzhaus
 en
END:VEVENT
END:VCALENDAR
