BEGIN:VCALENDAR
VERSION:2.0
PRODID:-//Sabre//Sabre VObject 4.5.6//EN
CALSCALE:GREGORIAN
BEGIN:VEVENT
UID:sabre-vobject-620dd2d6-bce1-49cb-888b-2ef7a59e6846
DTSTAMP:20260424T210440Z
SUMMARY:Festgottesdienst zum Fest Mariä Aufnahme in den Himmel mit Kräute
 rsegnung\n
DESCRIPTION:https://gottesdienstsuche.com/festgottesdienst-zum-fest-mariae-
 aufnahme-in-den-himmel-mit-kraeutersegnung_id32203
DTSTART:20250817T090000
LOCATION:Pfarrkirche Dürnzhausen-St. Georg\, Kirchberg 7\, 85301 Dürnzhau
 sen
END:VEVENT
END:VCALENDAR
