BEGIN:VCALENDAR
VERSION:2.0
PRODID:-//Sabre//Sabre VObject 4.5.6//EN
CALSCALE:GREGORIAN
BEGIN:VEVENT
UID:sabre-vobject-18dbae6f-fd71-4d81-88d3-7128f339df07
DTSTAMP:20260425T034231Z
SUMMARY:Vorabendgottesdienst zum Fest Mariä Aufnahme in den Himmel mit Kr
 äutersegnung
DESCRIPTION:https://gottesdienstsuche.com/vorabendgottesdienst-zum-fest-mar
 iae-aufnahme-in-den-himmel-mit-kraeutersegnung_id32202
DTSTART:20250816T190000
LOCATION:Pfarrkirche Niederthann-St. Dionysius\, HsNr. 15\, 85301 Niedertha
 nn
END:VEVENT
END:VCALENDAR
