BEGIN:VCALENDAR
VERSION:2.0
PRODID:-//Sabre//Sabre VObject 4.5.6//EN
CALSCALE:GREGORIAN
BEGIN:VEVENT
UID:sabre-vobject-c78191b1-64cc-446d-ad0c-87d0a1f71f2a
DTSTAMP:20260425T190247Z
SUMMARY:Festgottesdienst zum Kirchenpatrozinium Mariä Himmelfahrt mit Krä
 utersegnung
DESCRIPTION:https://gottesdienstsuche.com/festgottesdienst-zum-kirchenpatro
 zinium-mariae-himmelfahrt-mit-kraeutersegnung_id32199
DTSTART:20250815T103000
LOCATION:Filialkirche Johanneck-Mariä Himmelfahrt\, Johannecker Str. 23\, 
 85307 Johanneck
END:VEVENT
END:VCALENDAR
