BEGIN:VCALENDAR
VERSION:2.0
PRODID:-//Sabre//Sabre VObject 4.5.6//EN
CALSCALE:GREGORIAN
BEGIN:VEVENT
UID:sabre-vobject-ed4338c8-3e07-49d2-a117-3129393d4436
DTSTAMP:20260419T124723Z
SUMMARY:Frühgottesdienst
DESCRIPTION:https://gottesdienstsuche.com/fruehgottesdienst_id32018
DTSTART:20250831T073000
LOCATION:Pfarrkirche Scheyern-Heilig Kreuz (Klosterkirche)\, Schyrenplatz \
 , 85298 Scheyern
END:VEVENT
END:VCALENDAR
