BEGIN:VCALENDAR
VERSION:2.0
PRODID:-//Sabre//Sabre VObject 4.5.6//EN
CALSCALE:GREGORIAN
BEGIN:VEVENT
UID:sabre-vobject-51192b48-9725-4724-a586-888b80c8fcdb
DTSTAMP:20260419T143053Z
SUMMARY:Beichtgelegenheit\, im Beichtstuhl
DESCRIPTION:https://gottesdienstsuche.com/beichtgelegenheit-im-beichtstuhl_
 id32017
DTSTART:20250831T071500
LOCATION:Pfarrkirche Scheyern-Heilig Kreuz (Klosterkirche)\, Schyrenplatz \
 , 85298 Scheyern
END:VEVENT
END:VCALENDAR
