BEGIN:VCALENDAR
VERSION:2.0
PRODID:-//Sabre//Sabre VObject 4.5.6//EN
CALSCALE:GREGORIAN
BEGIN:VEVENT
UID:sabre-vobject-5a50bcb5-a9d7-4438-8d5a-e603d00c6f46
DTSTAMP:20260419T194250Z
SUMMARY:Vesper
DESCRIPTION:https://gottesdienstsuche.com/vesper_id32015
DTSTART:20250830T180000
LOCATION:Kapitelkirche Scheyern-St. Johannes Nepomuk\, Schyrenplatz\, 85298
  Scheyern
END:VEVENT
END:VCALENDAR
