BEGIN:VCALENDAR
VERSION:2.0
PRODID:-//Sabre//Sabre VObject 4.5.6//EN
CALSCALE:GREGORIAN
BEGIN:VEVENT
UID:sabre-vobject-ebceb058-bc4d-45e4-999a-5902eebf8da8
DTSTAMP:20260420T004532Z
SUMMARY:Trauung
DESCRIPTION:https://gottesdienstsuche.com/trauung_id32013
DTSTART:20250830T140000
LOCATION:Pfarrkirche Scheyern-Heilig Kreuz (Klosterkirche)\, Schyrenplatz \
 , 85298 Scheyern
END:VEVENT
END:VCALENDAR
