BEGIN:VCALENDAR
VERSION:2.0
PRODID:-//Sabre//Sabre VObject 4.5.6//EN
CALSCALE:GREGORIAN
BEGIN:VEVENT
UID:sabre-vobject-5b49e3ae-4160-41c7-8eb6-bbb38c2336d3
DTSTAMP:20260420T023402Z
SUMMARY:Mette und Messe
DESCRIPTION:https://gottesdienstsuche.com/mette-und-messe_id32012
DTSTART:20250830T064500
LOCATION:Kapitelkirche Scheyern-St. Johannes Nepomuk\, Schyrenplatz\, 85298
  Scheyern
END:VEVENT
END:VCALENDAR
