BEGIN:VCALENDAR
VERSION:2.0
PRODID:-//Sabre//Sabre VObject 4.5.6//EN
CALSCALE:GREGORIAN
BEGIN:VEVENT
UID:sabre-vobject-55027acd-8452-423e-a5c9-48053200e6f7
DTSTAMP:20260420T041945Z
SUMMARY:Vesper und Messe
DESCRIPTION:https://gottesdienstsuche.com/vesper-und-messe_id32011
DTSTART:20250829T174500
LOCATION:Kapitelkirche Scheyern-St. Johannes Nepomuk\, Schyrenplatz\, 85298
  Scheyern
END:VEVENT
END:VCALENDAR
