BEGIN:VCALENDAR
VERSION:2.0
PRODID:-//Sabre//Sabre VObject 4.5.6//EN
CALSCALE:GREGORIAN
BEGIN:VEVENT
UID:sabre-vobject-cb606fbb-23c3-48be-98aa-d1e33ec3800d
DTSTAMP:20260420T060707Z
SUMMARY:Messe
DESCRIPTION:https://gottesdienstsuche.com/messe_id32010
DTSTART:20250829T070000
LOCATION:Pfarrkirche Scheyern-Heilig Kreuz (Klosterkirche)\, Schyrenplatz \
 , 85298 Scheyern
END:VEVENT
END:VCALENDAR
