BEGIN:VCALENDAR
VERSION:2.0
PRODID:-//Sabre//Sabre VObject 4.5.6//EN
CALSCALE:GREGORIAN
BEGIN:VEVENT
UID:sabre-vobject-9637f4c5-f194-43ef-a657-35c19c1ace44
DTSTAMP:20260421T165603Z
SUMMARY:Messe
DESCRIPTION:https://gottesdienstsuche.com/messe_id32008
DTSTART:20250828T070000
LOCATION:Pfarrkirche Scheyern-Heilig Kreuz (Klosterkirche)\, Schyrenplatz \
 , 85298 Scheyern
END:VEVENT
END:VCALENDAR
