BEGIN:VCALENDAR
VERSION:2.0
PRODID:-//Sabre//Sabre VObject 4.5.6//EN
CALSCALE:GREGORIAN
BEGIN:VEVENT
UID:sabre-vobject-b5cad0e2-6b5b-4c43-a655-b495ee893a3e
DTSTAMP:20260421T185346Z
SUMMARY:Vesper
DESCRIPTION:https://gottesdienstsuche.com/vesper_id32007
DTSTART:20250827T180000
LOCATION:Kapitelkirche Scheyern-St. Johannes Nepomuk\, Schyrenplatz\, 85298
  Scheyern
END:VEVENT
END:VCALENDAR
