BEGIN:VCALENDAR
VERSION:2.0
PRODID:-//Sabre//Sabre VObject 4.5.6//EN
CALSCALE:GREGORIAN
BEGIN:VEVENT
UID:sabre-vobject-a42d7fa7-0de4-423f-b268-55f67d39f129
DTSTAMP:20260421T202220Z
SUMMARY:Senioren-Hoagart'n im Gasthaus Kettner\n
DESCRIPTION:https://gottesdienstsuche.com/senioren-hoagart-n-im-gasthaus-ke
 ttner_id32006
DTSTART:20250827T140000
LOCATION:Pfarrkirche Gerolsbach-St. Andreas\, St.-Andreas-Str. 7\, 85302 Ge
 rolsbach
END:VEVENT
END:VCALENDAR
