BEGIN:VCALENDAR
VERSION:2.0
PRODID:-//Sabre//Sabre VObject 4.5.6//EN
CALSCALE:GREGORIAN
BEGIN:VEVENT
UID:sabre-vobject-84a9746b-836e-4efa-be36-b6b7ba444b28
DTSTAMP:20260422T014755Z
SUMMARY:Abendgottesdienst
DESCRIPTION:https://gottesdienstsuche.com/abendgottesdienst_id32004
DTSTART:20250826T183000
LOCATION:Pfarrkirche Niederscheyern-Maria Verkündigung\, Scheyererweg 3\, 
 85276 Niederscheyern
END:VEVENT
END:VCALENDAR
